BEGIN:VCALENDAR
PRODID:-//eluceo/ical//2.0/EN
VERSION:2.0
CALSCALE:GREGORIAN
BEGIN:VEVENT
UID:4ad97032079c87163e3aa3e1eb60157f
DTSTAMP:20260424T125144Z
SUMMARY:Oldtimer-Treffen (Helptour)
DESCRIPTION:
URL:https://rotarysh.ch/sv/agenda/show/124076
DTSTART;TZID=Europe/Zurich:20230826T100000
DTEND;TZID=Europe/Zurich:20230826T160000
LOCATION:Herrenacker Schaffhausen und  SIG Areal Neuhausen
CATEGORIES:Rotary
END:VEVENT
BEGIN:VTIMEZONE
TZID:Europe/Zurich
BEGIN:DAYLIGHT
DTSTART:20230826T100000
TZNAME:CEST
TZOFFSETTO:+0200
TZOFFSETFROM:+0200
END:DAYLIGHT
END:VTIMEZONE
END:VCALENDAR
