BEGIN:VCALENDAR
PRODID:-//eluceo/ical//2.0/EN
VERSION:2.0
CALSCALE:GREGORIAN
BEGIN:VEVENT
UID:3af78abbe3923425dd60e2471b54e582
DTSTAMP:20260420T144243Z
SUMMARY:BBZ Schaffhausen
DESCRIPTION:Sito web: http://kronenhof.ch\nRelatore/i: Fast alle in Schaffh
 ausen kennen das BBZ – aber\nnur wenige wissen\, welche zentrale Rolle e
 s für die Berufsbildung spielt.Marc Kummer stellt uns die Berufsschule vo
 r.
URL:https://rotarysh.ch/it/agenda/show/211249
DTSTART;TZID=Europe/Zurich:20260413T120000
DTEND;TZID=Europe/Zurich:20260413T133000
LOCATION:Hotel Kronenhof\, Kirchhofplatz 7\, 8200 Schaffhausen\, Schweiz
CATEGORIES:Rotary
END:VEVENT
BEGIN:VTIMEZONE
TZID:Europe/Zurich
BEGIN:DAYLIGHT
DTSTART:20260413T120000
TZNAME:CEST
TZOFFSETTO:+0200
TZOFFSETFROM:+0200
END:DAYLIGHT
END:VTIMEZONE
END:VCALENDAR
