BEGIN:VCALENDAR
PRODID:-//eluceo/ical//2.0/EN
VERSION:2.0
CALSCALE:GREGORIAN
BEGIN:VEVENT
UID:1e70c585f133fdb447dfdcfffe59e5f7
DTSTAMP:20260421T164046Z
SUMMARY:Jahresversammlung 2023
DESCRIPTION:Sito web: http://kronenhof.ch
URL:https://rotarysh.ch/it/agenda/show/170883
DTSTART;TZID=Europe/Zurich:20231218T120000
DTEND;TZID=Europe/Zurich:20231218T133000
LOCATION:Hotel Kronenhof\, Kirchhofplatz 7\, 8200 Schaffhausen\, Schweiz
CATEGORIES:Rotary
END:VEVENT
BEGIN:VTIMEZONE
TZID:Europe/Zurich
BEGIN:STANDARD
DTSTART:20231218T120000
TZNAME:CET
TZOFFSETTO:+0100
TZOFFSETFROM:+0100
END:STANDARD
END:VTIMEZONE
END:VCALENDAR
