BEGIN:VCALENDAR
PRODID:-//eluceo/ical//2.0/EN
VERSION:2.0
CALSCALE:GREGORIAN
BEGIN:VEVENT
UID:958b2570ce02c14d5d102735736d4418
DTSTAMP:20260422T224941Z
SUMMARY:Governor Besuch - Thomas Hunziker
DESCRIPTION:Sito web: http://kronenhof.ch
URL:https://rotarysh.ch/it/agenda/show/165724
DTSTART;TZID=Europe/Zurich:20231113T120000
DTEND;TZID=Europe/Zurich:20231113T140000
LOCATION:Hotel Kronenhof\, Kirchhofplatz 7\, 8200 Schaffhausen\, Schweiz
CATEGORIES:Rotary
END:VEVENT
BEGIN:VTIMEZONE
TZID:Europe/Zurich
BEGIN:STANDARD
DTSTART:20231113T120000
TZNAME:CET
TZOFFSETTO:+0100
TZOFFSETFROM:+0100
END:STANDARD
END:VTIMEZONE
END:VCALENDAR
