BEGIN:VCALENDAR
PRODID:-//eluceo/ical//2.0/EN
VERSION:2.0
CALSCALE:GREGORIAN
BEGIN:VEVENT
UID:e8168285f402537278c60dc002c059f5
DTSTAMP:20260421T090317Z
SUMMARY:Abendanlass - Metzgete mit RC Weinland - Restaurant Steinekreuz\, R
 üdlingen
DESCRIPTION:
URL:https://rotarysh.ch/fr/agenda/show/169081
DTSTART;TZID=Europe/Zurich:20240129T180000
DTEND;TZID=Europe/Zurich:20240129T220000
LOCATION:Restaurant Steinenkreuz\, Rüdlingen
CATEGORIES:Rotary
END:VEVENT
BEGIN:VTIMEZONE
TZID:Europe/Zurich
BEGIN:STANDARD
DTSTART:20240129T180000
TZNAME:CET
TZOFFSETTO:+0100
TZOFFSETFROM:+0100
END:STANDARD
END:VTIMEZONE
END:VCALENDAR
