BEGIN:VCALENDAR
PRODID:-//eluceo/ical//2.0/EN
VERSION:2.0
CALSCALE:GREGORIAN
BEGIN:VEVENT
UID:9d775ce2afd13824d3d732dd47c6db1b
DTSTAMP:20260419T123558Z
SUMMARY:Sommerabend am Rheinfall
DESCRIPTION:Lockeres Ausklingen der Woche. Gemeinsamer Anlass der Rotary Cl
 ubs Schaffhausen\, Schaffhausen Munot und Weinland.\nSpeaker(s): André M
 üller-Roost
URL:https://rotarysh.ch/en/agenda/show/33213
DTSTART;TZID=Europe/Zurich:20130705T173000
DTEND;TZID=Europe/Zurich:20130705T230000
LOCATION:Mühleradhaus am Rheinfall
CATEGORIES:Rotary
END:VEVENT
BEGIN:VTIMEZONE
TZID:Europe/Zurich
BEGIN:DAYLIGHT
DTSTART:20130705T173000
TZNAME:CEST
TZOFFSETTO:+0200
TZOFFSETFROM:+0200
END:DAYLIGHT
END:VTIMEZONE
END:VCALENDAR
