BEGIN:VCALENDAR
PRODID:-//eluceo/ical//2.0/EN
VERSION:2.0
CALSCALE:GREGORIAN
BEGIN:VEVENT
UID:446c0e5a95f67b28b01a2259faf8431a
DTSTAMP:20260419T123420Z
SUMMARY:Über Weihnachten finden nur die Weihnachtsfeier (16. 12.)  und das
  Fischessen (30. 12.) statt! Das Hotel Kronenhof ist am 23.12. geschlossen
 .
DESCRIPTION:
URL:https://rotarysh.ch/en/agenda/show/33179
DTSTART;TZID=Europe/Zurich:20131223T121500
DTEND;TZID=Europe/Zurich:20131223T140000
LOCATION:-
CATEGORIES:Rotary
END:VEVENT
BEGIN:VTIMEZONE
TZID:Europe/Zurich
BEGIN:STANDARD
DTSTART:20131223T121500
TZNAME:CET
TZOFFSETTO:+0100
TZOFFSETFROM:+0100
END:STANDARD
END:VTIMEZONE
END:VCALENDAR
