BEGIN:VCALENDAR
PRODID:-//eluceo/ical//2.0/EN
VERSION:2.0
CALSCALE:GREGORIAN
BEGIN:VEVENT
UID:ec52f561c3e1f21b3ffb78711c639a4d
DTSTAMP:20260419T122945Z
SUMMARY:"Gahna Vision" - Augenversorgung von Kindern und Jugendlichen
DESCRIPTION:Website: http://kronenhof.ch\nSpeaker(s): Martin Roost
URL:https://rotarysh.ch/en/agenda/show/170996
DTSTART;TZID=Europe/Zurich:20240318T120000
DTEND;TZID=Europe/Zurich:20240318T133000
LOCATION:Hotel Kronenhof\, Kirchhofplatz 7\, 8200 Schaffhausen\, Schweiz
CATEGORIES:Rotary
END:VEVENT
BEGIN:VTIMEZONE
TZID:Europe/Zurich
BEGIN:STANDARD
DTSTART:20240318T120000
TZNAME:CET
TZOFFSETTO:+0100
TZOFFSETFROM:+0100
END:STANDARD
END:VTIMEZONE
END:VCALENDAR
