BEGIN:VCALENDAR
PRODID:-//eluceo/ical//2.0/EN
VERSION:2.0
CALSCALE:GREGORIAN
BEGIN:VEVENT
UID:fb0d909ae499de938b4654a6dbfb5d9a
DTSTAMP:20260421T140414Z
SUMMARY:Trauerlunch KNILL Marcus
DESCRIPTION:Webseite: http://kronenhof.ch\nReferenten/innen: Paulus Bachman
 n
URL:https://rotarysh.ch/de/agenda/show/194951
DTSTART;TZID=Europe/Zurich:20250505T120000
DTEND;TZID=Europe/Zurich:20250505T140000
LOCATION:Hotel Kronenhof\, Kirchhofplatz 7\, 8200 Schaffhausen\, Schweiz
CATEGORIES:Rotary
END:VEVENT
BEGIN:VTIMEZONE
TZID:Europe/Zurich
BEGIN:DAYLIGHT
DTSTART:20250505T120000
TZNAME:CEST
TZOFFSETTO:+0200
TZOFFSETFROM:+0200
END:DAYLIGHT
END:VTIMEZONE
END:VCALENDAR
