BEGIN:VCALENDAR
PRODID:-//eluceo/ical//2.0/EN
VERSION:2.0
CALSCALE:GREGORIAN
BEGIN:VEVENT
UID:0a6ccd63f90821106725bdd4fbb5cc8c
DTSTAMP:20260422T085522Z
SUMMARY:Abendanlass WEINTREFF\, Konstantin Schmidt - "Ich habe mich getraut
 " - Chancen im Weingeschäft"
DESCRIPTION:Webseite: https://www.weintreffpunkt.ch\nReferenten/innen: Kons
 tantin Schmidt"Ich habe mich getraut......"
URL:https://rotarysh.ch/de/agenda/show/183268
DTSTART;TZID=Europe/Zurich:20241223T180000
DTEND;TZID=Europe/Zurich:20241223T220000
LOCATION:Tanne 8 Schaffhausen
CATEGORIES:Rotary
END:VEVENT
BEGIN:VTIMEZONE
TZID:Europe/Zurich
BEGIN:STANDARD
DTSTART:20241223T180000
TZNAME:CET
TZOFFSETTO:+0100
TZOFFSETFROM:+0100
END:STANDARD
END:VTIMEZONE
END:VCALENDAR
