BEGIN:VCALENDAR
PRODID:-//eluceo/ical//2.0/EN
VERSION:2.0
CALSCALE:GREGORIAN
BEGIN:VEVENT
UID:0c226fdede08bf3039361569083e6040
DTSTAMP:20260421T080644Z
SUMMARY:Shelter Box
DESCRIPTION:Webseite: http://kronenhof.ch\nReferenten/innen: Roland Brütsc
 h
URL:https://rotarysh.ch/de/agenda/show/174610
DTSTART;TZID=Europe/Zurich:20240506T120000
DTEND;TZID=Europe/Zurich:20240506T133000
LOCATION:Hotel Kronenhof\, Kirchhofplatz 7\, 8200 Schaffhausen\, Schweiz
CATEGORIES:Rotary
END:VEVENT
BEGIN:VTIMEZONE
TZID:Europe/Zurich
BEGIN:DAYLIGHT
DTSTART:20240506T120000
TZNAME:CEST
TZOFFSETTO:+0200
TZOFFSETFROM:+0200
END:DAYLIGHT
END:VTIMEZONE
END:VCALENDAR
