BEGIN:VCALENDAR
PRODID:-//eluceo/ical//2.0/EN
VERSION:2.0
CALSCALE:GREGORIAN
BEGIN:VEVENT
UID:c91d7f3fb1ecd174e2ce3dae7c1cdd63
DTSTAMP:20260421T080512Z
SUMMARY:Rot. Hans Konrad Peyer - "Prägende Wendepunkte in meinem Leben"
DESCRIPTION:Webseite: http://kronenhof.ch
URL:https://rotarysh.ch/de/agenda/show/171000
DTSTART;TZID=Europe/Zurich:20240408T120000
DTEND;TZID=Europe/Zurich:20240408T133000
LOCATION:Hotel Kronenhof\, Kirchhofplatz 7\, 8200 Schaffhausen\, Schweiz
CATEGORIES:Rotary
END:VEVENT
BEGIN:VTIMEZONE
TZID:Europe/Zurich
BEGIN:DAYLIGHT
DTSTART:20240408T120000
TZNAME:CEST
TZOFFSETTO:+0200
TZOFFSETFROM:+0200
END:DAYLIGHT
END:VTIMEZONE
END:VCALENDAR
