BEGIN:VCALENDAR
PRODID:-//eluceo/ical//2.0/EN
VERSION:2.0
CALSCALE:GREGORIAN
BEGIN:VEVENT
UID:2ca7cfce809301443549665c8e35a554
DTSTAMP:20260419T123949Z
SUMMARY:Water Survival Box "Saubers Trinkwasser für Alle"
DESCRIPTION:Webseite: http://kronenhof.ch\nReferenten/innen: Im Voraus Apé
 ro spendiert von Anton Rösch zu seinem 90. GeburtstagCatharina Peyer und 
 Marco Baur
URL:https://rotarysh.ch/de/agenda/show/165728
DTSTART;TZID=Europe/Zurich:20231204T120000
DTEND;TZID=Europe/Zurich:20231204T140000
LOCATION:Hotel Kronenhof\, Kirchhofplatz 7\, 8200 Schaffhausen\, Schweiz
CATEGORIES:Rotary
END:VEVENT
BEGIN:VTIMEZONE
TZID:Europe/Zurich
BEGIN:STANDARD
DTSTART:20231204T120000
TZNAME:CET
TZOFFSETTO:+0100
TZOFFSETFROM:+0100
END:STANDARD
END:VTIMEZONE
END:VCALENDAR
